BEGIN:VCALENDAR
VERSION:2.0
PRODID:icalendar-ruby
CALSCALE:GREGORIAN
METHOD:PUBLISH
BEGIN:VEVENT
DTSTAMP:20260423T021121Z
UID:113-358556@mcphersonfirst.org
DTSTART:20261205T133000Z
DTEND:20261205T143000Z
CLASS:PUBLIC
CREATED:20260422T092801
DESCRIPTION:Men of the church\, join us for the United Methodist Men Monthl
 y Breakfast on the first Saturday of every month from 7:30 to 8:30 AM in H
 ess Hall. This is a time for good food\, great fellowship\, and an opportu
 nity to grow together in faith and friendship.\nThe format is simple: shar
 e a meal\, catch up with one another\, and spend a little time reflecting 
 on faith before heading into the weekend. No agenda pressure\, no prep req
 uired.\nIf you’ve been looking for a way to connect with other men in th
 e congregation\, this is a great place to start. Long-time members\, newer
  folks\, and first-time visitors are all welcome at the table.\nNo registr
 ation needed. Just come hungry. Questions? Contact Scott Reimer at scott.r
 eimer@mcphersonfirst.org.\nWe hope to see you there.
LAST-MODIFIED:20260422T092801
LOCATION:Hess Hall
SUMMARY:United Methodist Men Monthly Breakfast
URL;VALUE=URI:https://www.mcphersonfirst.org/events/united-methodist-men-mo
 nthly-breakfast/2026-12-05
ATTACH;FILENAME=United Methodies Men.jpg;FMTTYPE=image/jpeg:https://dq5pwpg
 1q8ru0.cloudfront.net/2025/08/26/20/47/58/f9762323-42cb-46f1-928b-d329c1d4
 3e18/United%20Methodies%20Men.jpg
END:VEVENT
END:VCALENDAR
